BEGIN:VCALENDAR
VERSION:2.0
PRODID:-//Scienscope - ECPv6.15.20//NONSGML v1.0//EN
CALSCALE:GREGORIAN
METHOD:PUBLISH
X-WR-CALNAME:Scienscope
X-ORIGINAL-URL:https://www.scienscope.com
X-WR-CALDESC:Events for Scienscope
REFRESH-INTERVAL;VALUE=DURATION:PT1H
X-Robots-Tag:noindex
X-PUBLISHED-TTL:PT1H
BEGIN:VTIMEZONE
TZID:America/Los_Angeles
BEGIN:DAYLIGHT
TZOFFSETFROM:-0800
TZOFFSETTO:-0700
TZNAME:PDT
DTSTART:20220313T100000
END:DAYLIGHT
BEGIN:STANDARD
TZOFFSETFROM:-0700
TZOFFSETTO:-0800
TZNAME:PST
DTSTART:20221106T090000
END:STANDARD
BEGIN:DAYLIGHT
TZOFFSETFROM:-0800
TZOFFSETTO:-0700
TZNAME:PDT
DTSTART:20230312T100000
END:DAYLIGHT
BEGIN:STANDARD
TZOFFSETFROM:-0700
TZOFFSETTO:-0800
TZNAME:PST
DTSTART:20231105T090000
END:STANDARD
BEGIN:DAYLIGHT
TZOFFSETFROM:-0800
TZOFFSETTO:-0700
TZNAME:PDT
DTSTART:20240310T100000
END:DAYLIGHT
BEGIN:STANDARD
TZOFFSETFROM:-0700
TZOFFSETTO:-0800
TZNAME:PST
DTSTART:20241103T090000
END:STANDARD
END:VTIMEZONE
BEGIN:VEVENT
DTSTART;TZID=America/Los_Angeles:20230124T090000
DTEND;TZID=America/Los_Angeles:20230126T170000
DTSTAMP:20260423T223924
CREATED:20230616T124849Z
LAST-MODIFIED:20230628T081940Z
UID:31801-1674550800-1674752400@www.scienscope.com
SUMMARY:APEX EXPO TRADE SHOW Booth 2107
DESCRIPTION:At our biggest show\, we introduced our global sales team\, technicians\, and a range of innovative products\, including the AXC-800 III Component Counter\, IMS-100\, IMS-200\, Xspection 3000\, Smart Storage Rack\, and Optical Inspection Systems
URL:https://www.scienscope.com/event/apex-expo-trade-show/
LOCATION:Convention Center\, 111 Harbor Dr.\, San Diego\, CA\, United States
ATTACH;FMTTYPE=image/png:https://www.scienscope.com/wp-content/uploads/2023/06/SDConventionCenterFront.png
END:VEVENT
END:VCALENDAR