BEGIN:VCALENDAR
VERSION:2.0
PRODID:-//Scienscope - ECPv6.15.20//NONSGML v1.0//EN
CALSCALE:GREGORIAN
METHOD:PUBLISH
X-WR-CALNAME:Scienscope
X-ORIGINAL-URL:https://www.scienscope.com
X-WR-CALDESC:Events for Scienscope
REFRESH-INTERVAL;VALUE=DURATION:PT1H
X-Robots-Tag:noindex
X-PUBLISHED-TTL:PT1H
BEGIN:VTIMEZONE
TZID:America/Los_Angeles
BEGIN:DAYLIGHT
TZOFFSETFROM:-0800
TZOFFSETTO:-0700
TZNAME:PDT
DTSTART:20220313T100000
END:DAYLIGHT
BEGIN:STANDARD
TZOFFSETFROM:-0700
TZOFFSETTO:-0800
TZNAME:PST
DTSTART:20221106T090000
END:STANDARD
BEGIN:DAYLIGHT
TZOFFSETFROM:-0800
TZOFFSETTO:-0700
TZNAME:PDT
DTSTART:20230312T100000
END:DAYLIGHT
BEGIN:STANDARD
TZOFFSETFROM:-0700
TZOFFSETTO:-0800
TZNAME:PST
DTSTART:20231105T090000
END:STANDARD
BEGIN:DAYLIGHT
TZOFFSETFROM:-0800
TZOFFSETTO:-0700
TZNAME:PDT
DTSTART:20240310T100000
END:DAYLIGHT
BEGIN:STANDARD
TZOFFSETFROM:-0700
TZOFFSETTO:-0800
TZNAME:PST
DTSTART:20241103T090000
END:STANDARD
END:VTIMEZONE
BEGIN:VTIMEZONE
TZID:Europe/Tallinn
BEGIN:DAYLIGHT
TZOFFSETFROM:+0200
TZOFFSETTO:+0300
TZNAME:EEST
DTSTART:20220327T010000
END:DAYLIGHT
BEGIN:STANDARD
TZOFFSETFROM:+0300
TZOFFSETTO:+0200
TZNAME:EET
DTSTART:20221030T010000
END:STANDARD
BEGIN:DAYLIGHT
TZOFFSETFROM:+0200
TZOFFSETTO:+0300
TZNAME:EEST
DTSTART:20230326T010000
END:DAYLIGHT
BEGIN:STANDARD
TZOFFSETFROM:+0300
TZOFFSETTO:+0200
TZNAME:EET
DTSTART:20231029T010000
END:STANDARD
BEGIN:DAYLIGHT
TZOFFSETFROM:+0200
TZOFFSETTO:+0300
TZNAME:EEST
DTSTART:20240331T010000
END:DAYLIGHT
BEGIN:STANDARD
TZOFFSETFROM:+0300
TZOFFSETTO:+0200
TZNAME:EET
DTSTART:20241027T010000
END:STANDARD
END:VTIMEZONE
BEGIN:VTIMEZONE
TZID:America/Mexico_City
BEGIN:DAYLIGHT
TZOFFSETFROM:-0600
TZOFFSETTO:-0500
TZNAME:CDT
DTSTART:20220403T080000
END:DAYLIGHT
BEGIN:STANDARD
TZOFFSETFROM:-0500
TZOFFSETTO:-0600
TZNAME:CST
DTSTART:20221030T070000
END:STANDARD
END:VTIMEZONE
BEGIN:VTIMEZONE
TZID:America/Chicago
BEGIN:DAYLIGHT
TZOFFSETFROM:-0600
TZOFFSETTO:-0500
TZNAME:CDT
DTSTART:20220313T080000
END:DAYLIGHT
BEGIN:STANDARD
TZOFFSETFROM:-0500
TZOFFSETTO:-0600
TZNAME:CST
DTSTART:20221106T070000
END:STANDARD
BEGIN:DAYLIGHT
TZOFFSETFROM:-0600
TZOFFSETTO:-0500
TZNAME:CDT
DTSTART:20230312T080000
END:DAYLIGHT
BEGIN:STANDARD
TZOFFSETFROM:-0500
TZOFFSETTO:-0600
TZNAME:CST
DTSTART:20231105T070000
END:STANDARD
BEGIN:DAYLIGHT
TZOFFSETFROM:-0600
TZOFFSETTO:-0500
TZNAME:CDT
DTSTART:20240310T080000
END:DAYLIGHT
BEGIN:STANDARD
TZOFFSETFROM:-0500
TZOFFSETTO:-0600
TZNAME:CST
DTSTART:20241103T070000
END:STANDARD
END:VTIMEZONE
BEGIN:VTIMEZONE
TZID:America/New_York
BEGIN:DAYLIGHT
TZOFFSETFROM:-0500
TZOFFSETTO:-0400
TZNAME:EDT
DTSTART:20220313T070000
END:DAYLIGHT
BEGIN:STANDARD
TZOFFSETFROM:-0400
TZOFFSETTO:-0500
TZNAME:EST
DTSTART:20221106T060000
END:STANDARD
BEGIN:DAYLIGHT
TZOFFSETFROM:-0500
TZOFFSETTO:-0400
TZNAME:EDT
DTSTART:20230312T070000
END:DAYLIGHT
BEGIN:STANDARD
TZOFFSETFROM:-0400
TZOFFSETTO:-0500
TZNAME:EST
DTSTART:20231105T060000
END:STANDARD
BEGIN:DAYLIGHT
TZOFFSETFROM:-0500
TZOFFSETTO:-0400
TZNAME:EDT
DTSTART:20240310T070000
END:DAYLIGHT
BEGIN:STANDARD
TZOFFSETFROM:-0400
TZOFFSETTO:-0500
TZNAME:EST
DTSTART:20241103T060000
END:STANDARD
END:VTIMEZONE
BEGIN:VTIMEZONE
TZID:Europe/Budapest
BEGIN:DAYLIGHT
TZOFFSETFROM:+0100
TZOFFSETTO:+0200
TZNAME:CEST
DTSTART:20220327T010000
END:DAYLIGHT
BEGIN:STANDARD
TZOFFSETFROM:+0200
TZOFFSETTO:+0100
TZNAME:CET
DTSTART:20221030T010000
END:STANDARD
BEGIN:DAYLIGHT
TZOFFSETFROM:+0100
TZOFFSETTO:+0200
TZNAME:CEST
DTSTART:20230326T010000
END:DAYLIGHT
BEGIN:STANDARD
TZOFFSETFROM:+0200
TZOFFSETTO:+0100
TZNAME:CET
DTSTART:20231029T010000
END:STANDARD
BEGIN:DAYLIGHT
TZOFFSETFROM:+0100
TZOFFSETTO:+0200
TZNAME:CEST
DTSTART:20240331T010000
END:DAYLIGHT
BEGIN:STANDARD
TZOFFSETFROM:+0200
TZOFFSETTO:+0100
TZNAME:CET
DTSTART:20241027T010000
END:STANDARD
END:VTIMEZONE
BEGIN:VTIMEZONE
TZID:Europe/Prague
BEGIN:DAYLIGHT
TZOFFSETFROM:+0100
TZOFFSETTO:+0200
TZNAME:CEST
DTSTART:20220327T010000
END:DAYLIGHT
BEGIN:STANDARD
TZOFFSETFROM:+0200
TZOFFSETTO:+0100
TZNAME:CET
DTSTART:20221030T010000
END:STANDARD
BEGIN:DAYLIGHT
TZOFFSETFROM:+0100
TZOFFSETTO:+0200
TZNAME:CEST
DTSTART:20230326T010000
END:DAYLIGHT
BEGIN:STANDARD
TZOFFSETFROM:+0200
TZOFFSETTO:+0100
TZNAME:CET
DTSTART:20231029T010000
END:STANDARD
BEGIN:DAYLIGHT
TZOFFSETFROM:+0100
TZOFFSETTO:+0200
TZNAME:CEST
DTSTART:20240331T010000
END:DAYLIGHT
BEGIN:STANDARD
TZOFFSETFROM:+0200
TZOFFSETTO:+0100
TZNAME:CET
DTSTART:20241027T010000
END:STANDARD
END:VTIMEZONE
BEGIN:VTIMEZONE
TZID:Europe/Paris
BEGIN:DAYLIGHT
TZOFFSETFROM:+0100
TZOFFSETTO:+0200
TZNAME:CEST
DTSTART:20220327T010000
END:DAYLIGHT
BEGIN:STANDARD
TZOFFSETFROM:+0200
TZOFFSETTO:+0100
TZNAME:CET
DTSTART:20221030T010000
END:STANDARD
BEGIN:DAYLIGHT
TZOFFSETFROM:+0100
TZOFFSETTO:+0200
TZNAME:CEST
DTSTART:20230326T010000
END:DAYLIGHT
BEGIN:STANDARD
TZOFFSETFROM:+0200
TZOFFSETTO:+0100
TZNAME:CET
DTSTART:20231029T010000
END:STANDARD
BEGIN:DAYLIGHT
TZOFFSETFROM:+0100
TZOFFSETTO:+0200
TZNAME:CEST
DTSTART:20240331T010000
END:DAYLIGHT
BEGIN:STANDARD
TZOFFSETFROM:+0200
TZOFFSETTO:+0100
TZNAME:CET
DTSTART:20241027T010000
END:STANDARD
END:VTIMEZONE
BEGIN:VEVENT
DTSTART;TZID=America/Los_Angeles:20230426T090000
DTEND;TZID=America/Los_Angeles:20230427T170000
DTSTAMP:20260423T211545
CREATED:20230628T111145Z
LAST-MODIFIED:20230628T111145Z
UID:32454-1682499600-1682614800@www.scienscope.com
SUMMARY:DEL MAR ELECTRONICS & MANUFACTURING SHOW
DESCRIPTION:Join us in a beautiful city to view some fantastic innovations and meet our Sales Manager\, Danny Lumbreras. Come on over and let us inspire you with our passion for game-changing technology!
URL:https://www.scienscope.com/event/del-mar-electronics-manufacturing-show/
LOCATION:Del Mar Fairgrounds\, 2260 Jimmy Durante Blvd.\, Del Mar\, California\, United States
END:VEVENT
BEGIN:VEVENT
DTSTART;TZID=Europe/Tallinn:20230425T080000
DTEND;TZID=Europe/Tallinn:20230425T170000
DTSTAMP:20260423T211545
CREATED:20230628T110504Z
LAST-MODIFIED:20230628T110504Z
UID:32448-1682409600-1682442000@www.scienscope.com
SUMMARY:TECHDAY TALLINN
DESCRIPTION:Join us at TechDay\, hosted at our distributor’s state-of-the-art ESD facility Center OÜ\, where we’ll showcase our hottest products for component material management. Our cutting-edge solution has generated buzz in the industry\, and we can’t wait to showcase it to you. Get ready to be wowed by the latest advancements in material management technology and take your business operations to the next level.
URL:https://www.scienscope.com/event/techday-tallinn/
LOCATION:ESD Center OU\, Allika tee 1\, Peetri alevik\, Harjumaa\, Estonia
END:VEVENT
BEGIN:VEVENT
DTSTART;TZID=America/Mexico_City:20230420T110000
DTEND;TZID=America/Mexico_City:20230420T170000
DTSTAMP:20260423T211545
CREATED:20230628T105601Z
LAST-MODIFIED:20230628T105601Z
UID:32445-1681988400-1682010000@www.scienscope.com
SUMMARY:MONTERREY EXPO & TECH FORUM
DESCRIPTION:We’re excited to invite you to join us for FREE technical sessions\, a delicious lunch\, and the chance to connect with our dynamic X-Ray Sales Manager\, Mario\, and our Optical Sales Manager\, Cesar.  Discover how our innovative technology can help take your business to the next level. You will want to take advantage of this incredible opportunity to connect and learn!
URL:https://www.scienscope.com/event/monterrey-expo-tech-forum/
LOCATION:Cintermex Convention Center\, Av. Fundidora 501\, Monterrey\, Nuevo Leon\, Mexico
END:VEVENT
BEGIN:VEVENT
DTSTART;TZID=America/Chicago:20230411T090000
DTEND;TZID=America/Chicago:20230411T170000
DTSTAMP:20260423T211545
CREATED:20230628T105157Z
LAST-MODIFIED:20230628T105738Z
UID:32442-1681203600-1681232400@www.scienscope.com
SUMMARY:BOISE EXPO & TECH FORUM
DESCRIPTION:We are thrilled to have our dynamic Sales Manager\, Danny Lumbreras\, meet and greet you. Danny will be available to answer all your questions and schedule a demo of our cutting-edge systems. Please take advantage of this opportunity to connect with our expert team and discover the power of our innovative technology!
URL:https://www.scienscope.com/event/boise-expo-tech-forum/
LOCATION:The Grove Hotel | Downtown Boise\, 245 South Capitol Boulevard\, Boise\, Idaho\, United States
END:VEVENT
BEGIN:VEVENT
DTSTART;TZID=America/New_York:20230330T080000
DTEND;TZID=America/New_York:20230330T170000
DTSTAMP:20260423T211545
CREATED:20230628T095535Z
LAST-MODIFIED:20230628T121506Z
UID:32439-1680163200-1680195600@www.scienscope.com
SUMMARY:HOUSTON EXPO & TECH FORUM
DESCRIPTION:Get ready to experience the power of our cutting-edge technology!  Meet our Sales Manager\, Danny Lumbreras\, and discover everything our innovative systems can do for you. With the option to schedule your demo online or at our state-of-the-art HQ in Chino\, CA\, there’s no better time to see what sets us apart from the competition. Come on down\, and let us ignite your passion for game-changing technology!
URL:https://www.scienscope.com/event/houston-expo-tech-forum/
LOCATION:Stafford Centre\, 10505 Cash Road\, Staford\, Texas\, United States
END:VEVENT
BEGIN:VEVENT
DTSTART;TZID=Europe/Budapest:20230328T080000
DTEND;TZID=Europe/Budapest:20230328T170000
DTSTAMP:20260423T211545
CREATED:20230628T095127Z
LAST-MODIFIED:20230628T095127Z
UID:32434-1679990400-1680022800@www.scienscope.com
SUMMARY:INNOELECTRO
DESCRIPTION:We invite you to visit the booth of our fantastic distributor\, Danutek Kft\, and check out our unbeatable storage solution – the Smart Storage Rack! You don’t want to miss this opportunity to see how our innovative technology can help take your storage game to the next level. Come over and say hello\, we can’t wait to see you there!
URL:https://www.scienscope.com/event/innoelectro/
LOCATION:MOM Cultural Center\, Csörsz u. 18\, Budapest\, Hungary
END:VEVENT
BEGIN:VEVENT
DTSTART;TZID=America/New_York:20230328T080000
DTEND;TZID=America/New_York:20230328T080000
DTSTAMP:20260423T211545
CREATED:20230328T160006Z
LAST-MODIFIED:20230628T121640Z
UID:32424-1679990400-1679990400@www.scienscope.com
SUMMARY:DALLAS EXPO & TECH FORUM
DESCRIPTION:Get ready for an unforgettable experience at our upcoming event! We are thrilled to have our dynamic Sales Manager\, Danny Lumbreras\, meet and greet you. Danny will be available to answer all your questions and schedule a demo of our cutting-edge systems. Take advantage of this opportunity to connect with our expert team and discover the power of our innovative technology!
URL:https://www.scienscope.com/event/dallas-expo-tech-forum/
LOCATION:Exhibition Center\, Plano\, Texas\, United States
END:VEVENT
BEGIN:VEVENT
DTSTART;TZID=Europe/Prague:20230321T080000
DTEND;TZID=Europe/Prague:20230323T170000
DTSTAMP:20260423T211545
CREATED:20230628T093059Z
LAST-MODIFIED:20230628T093059Z
UID:32417-1679385600-1679590800@www.scienscope.com
SUMMARY:AMPER SHOW
DESCRIPTION:We are delighted to partner with our distributor in Czech and Slovak\, a company that has been a trusted player in the industry since 1990. We feel privileged to work with such an experienced and knowledgeable team. We can’t wait to showcase our Complete Material Management products\, including the AXC-800 III\, IMS-100\, and Smart Storage Rack. Get ready to be impressed by what we have to offer!
URL:https://www.scienscope.com/event/amper-show/
LOCATION:Brno Exhibition Centre\, Výstaviště 405/1\, 603 00 Brno-střed\, Brno\, Czech Republic
END:VEVENT
BEGIN:VEVENT
DTSTART;TZID=America/Los_Angeles:20230314T080000
DTEND;TZID=America/Los_Angeles:20230315T170000
DTSTAMP:20260423T211545
CREATED:20230628T083942Z
LAST-MODIFIED:20230628T092528Z
UID:32414-1678780800-1678899600@www.scienscope.com
SUMMARY:TECHDAY DANUTEK
DESCRIPTION:We’re thrilled to announce that we’re returning to this year’s exhibition with our amazing distributor Danutek after the massive success of last year’s event! Get ready to experience our latest AXC-800 III\, IMS-100\, and Smart Storage Rack. We can’t wait to see you there and share the excitement!
URL:https://www.scienscope.com/event/techday-danutek/
LOCATION:Timisoara Hotel\, 1-3 Marasesti Street\, Timisoara\, Romania
END:VEVENT
BEGIN:VEVENT
DTSTART;TZID=Europe/Paris:20230307T080000
DTEND;TZID=Europe/Paris:20230310T170000
DTSTAMP:20260423T211545
CREATED:20230628T081818Z
LAST-MODIFIED:20230628T084237Z
UID:32409-1678176000-1678467600@www.scienscope.com
SUMMARY:GLOBAL INDUSTRY Stand 6G77
DESCRIPTION:Get ready to take your business to the next level with our outstanding new distributor in France\, SEICA! They’ll showcase our revolutionary Complete Material Management products\, including the game-changing AXC-800 III\, IMS 100\, and Smart Storage Rack. You won’t want to miss this incredible opportunity to see how these products can benefit your business and help you achieve your goals. Join us\, and let us show you the way to success!
URL:https://www.scienscope.com/event/global-industry-in-france-stand-6g77/
LOCATION:Eurexpo Lyon\, Bd de l'Europe\, 69680\, Chassieu\, France
ATTACH;FMTTYPE=image/jpeg:https://www.scienscope.com/wp-content/uploads/2023/06/9_-_entree_principale.jpg
END:VEVENT
BEGIN:VEVENT
DTSTART;TZID=America/Los_Angeles:20230124T090000
DTEND;TZID=America/Los_Angeles:20230126T170000
DTSTAMP:20260423T211545
CREATED:20230616T124849Z
LAST-MODIFIED:20230628T081940Z
UID:31801-1674550800-1674752400@www.scienscope.com
SUMMARY:APEX EXPO TRADE SHOW Booth 2107
DESCRIPTION:At our biggest show\, we introduced our global sales team\, technicians\, and a range of innovative products\, including the AXC-800 III Component Counter\, IMS-100\, IMS-200\, Xspection 3000\, Smart Storage Rack\, and Optical Inspection Systems
URL:https://www.scienscope.com/event/apex-expo-trade-show/
LOCATION:Convention Center\, 111 Harbor Dr.\, San Diego\, CA\, United States
ATTACH;FMTTYPE=image/png:https://www.scienscope.com/wp-content/uploads/2023/06/SDConventionCenterFront.png
END:VEVENT
END:VCALENDAR