BEGIN:VCALENDAR
VERSION:2.0
PRODID:-//Scienscope - ECPv6.15.20//NONSGML v1.0//EN
CALSCALE:GREGORIAN
METHOD:PUBLISH
X-WR-CALNAME:Scienscope
X-ORIGINAL-URL:https://www.scienscope.com
X-WR-CALDESC:Events for Scienscope
REFRESH-INTERVAL;VALUE=DURATION:PT1H
X-Robots-Tag:noindex
X-PUBLISHED-TTL:PT1H
BEGIN:VTIMEZONE
TZID:UTC
BEGIN:STANDARD
TZOFFSETFROM:+0000
TZOFFSETTO:+0000
TZNAME:UTC
DTSTART:20240101T000000
END:STANDARD
END:VTIMEZONE
BEGIN:VTIMEZONE
TZID:America/Tijuana
BEGIN:DAYLIGHT
TZOFFSETFROM:-0800
TZOFFSETTO:-0700
TZNAME:PDT
DTSTART:20230312T100000
END:DAYLIGHT
BEGIN:STANDARD
TZOFFSETFROM:-0700
TZOFFSETTO:-0800
TZNAME:PST
DTSTART:20231105T090000
END:STANDARD
BEGIN:DAYLIGHT
TZOFFSETFROM:-0800
TZOFFSETTO:-0700
TZNAME:PDT
DTSTART:20240310T100000
END:DAYLIGHT
BEGIN:STANDARD
TZOFFSETFROM:-0700
TZOFFSETTO:-0800
TZNAME:PST
DTSTART:20241103T090000
END:STANDARD
BEGIN:DAYLIGHT
TZOFFSETFROM:-0800
TZOFFSETTO:-0700
TZNAME:PDT
DTSTART:20250309T100000
END:DAYLIGHT
BEGIN:STANDARD
TZOFFSETFROM:-0700
TZOFFSETTO:-0800
TZNAME:PST
DTSTART:20251102T090000
END:STANDARD
END:VTIMEZONE
BEGIN:VTIMEZONE
TZID:Europe/Helsinki
BEGIN:DAYLIGHT
TZOFFSETFROM:+0200
TZOFFSETTO:+0300
TZNAME:EEST
DTSTART:20230326T010000
END:DAYLIGHT
BEGIN:STANDARD
TZOFFSETFROM:+0300
TZOFFSETTO:+0200
TZNAME:EET
DTSTART:20231029T010000
END:STANDARD
BEGIN:DAYLIGHT
TZOFFSETFROM:+0200
TZOFFSETTO:+0300
TZNAME:EEST
DTSTART:20240331T010000
END:DAYLIGHT
BEGIN:STANDARD
TZOFFSETFROM:+0300
TZOFFSETTO:+0200
TZNAME:EET
DTSTART:20241027T010000
END:STANDARD
BEGIN:DAYLIGHT
TZOFFSETFROM:+0200
TZOFFSETTO:+0300
TZNAME:EEST
DTSTART:20250330T010000
END:DAYLIGHT
BEGIN:STANDARD
TZOFFSETFROM:+0300
TZOFFSETTO:+0200
TZNAME:EET
DTSTART:20251026T010000
END:STANDARD
END:VTIMEZONE
BEGIN:VTIMEZONE
TZID:Asia/Kolkata
BEGIN:STANDARD
TZOFFSETFROM:+0530
TZOFFSETTO:+0530
TZNAME:IST
DTSTART:20230101T000000
END:STANDARD
END:VTIMEZONE
BEGIN:VTIMEZONE
TZID:America/Chihuahua
BEGIN:STANDARD
TZOFFSETFROM:-0600
TZOFFSETTO:-0600
TZNAME:CST
DTSTART:20230101T000000
END:STANDARD
END:VTIMEZONE
BEGIN:VEVENT
DTSTART;TZID=UTC:20250204T093000
DTEND;TZID=UTC:20250206T163000
DTSTAMP:20260423T123231
CREATED:20250121T141045Z
LAST-MODIFIED:20250121T141412Z
UID:36247-1738661400-1738859400@www.scienscope.com
SUMMARY:Southern Manufacturing & Electronics
DESCRIPTION:
URL:https://www.scienscope.com/event/southern-manufacturing-electronics/
LOCATION:Farnborough International Exhibition Centre\, ShowCentre\, Etps Rd\, Farnborough GU14 6TQ\, Farnborough\, United Kingdom
CATEGORIES:Featured
END:VEVENT
BEGIN:VEVENT
DTSTART;TZID=America/Tijuana:20241107T100000
DTEND;TZID=America/Tijuana:20241107T170000
DTSTAMP:20260423T123231
CREATED:20240314T122659Z
LAST-MODIFIED:20241028T075218Z
UID:35222-1730973600-1730998800@www.scienscope.com
SUMMARY:SMTA Tijuana Expo & Tech Forum
DESCRIPTION:
URL:https://www.scienscope.com/event/smta-tijuana-expo-tech-forum/
LOCATION:Quartz Hotel Tijuana\, P.º del Centenario 9580\, Tijuana\, Baja California Norte\, 22320\, Mexico
CATEGORIES:Featured
END:VEVENT
BEGIN:VEVENT
DTSTART;TZID=Europe/Helsinki:20240917T090000
DTEND;TZID=Europe/Helsinki:20240919T170000
DTSTAMP:20260423T123231
CREATED:20240917T082727Z
LAST-MODIFIED:20240917T082728Z
UID:35716-1726563600-1726765200@www.scienscope.com
SUMMARY:SMANS in-house Show
DESCRIPTION:
URL:https://www.scienscope.com/event/smans-in-house-show/
CATEGORIES:Featured
END:VEVENT
BEGIN:VEVENT
DTSTART;TZID=Asia/Kolkata:20240911T100000
DTEND;TZID=Asia/Kolkata:20240913T180000
DTSTAMP:20260423T123231
CREATED:20240319T095936Z
LAST-MODIFIED:20240907T083402Z
UID:35259-1726048800-1726250400@www.scienscope.com
SUMMARY:PRODUCTRONICA India
DESCRIPTION:
URL:https://www.scienscope.com/event/productronica-india-2/
LOCATION:India Expo Centre\, Plot No. 23/25\, 27/29\, Knowledge Park II\, Greater Noida\, 201306\, India
CATEGORIES:Featured
END:VEVENT
BEGIN:VEVENT
DTSTART;TZID=America/Chihuahua:20240815T100000
DTEND;TZID=America/Chihuahua:20240815T170000
DTSTAMP:20260423T123231
CREATED:20240314T121535Z
LAST-MODIFIED:20240620T082414Z
UID:35214-1723716000-1723741200@www.scienscope.com
SUMMARY:SMTA Chihuahua Expo & Tech Forum
DESCRIPTION:
URL:https://www.scienscope.com/event/smta-chihuahua/
LOCATION:Hotel Sheraton Soberano\, Barranca Del Cobre 3211\, Chihuahua\, 31125\, Mexico
CATEGORIES:Featured
END:VEVENT
END:VCALENDAR